Workbook

Sheet CBA Urbana
A6: MONITOREO DE PRECIOS PROMEDIO CBA URBANA - DEPARTAMENTO DE GUATEMALA | I6: 46251
A8: CBA | B8: MERCADO | C8: Unidos por Amor, zona 21 | D8: Justo Rufino Barrios, zona 21 | E8: Municipal Colonia Santa Fé, zona 13 | F8: La Villa,. Zona 10 | G8: Concepcion - Villa Nueva | H8: Divina Providencia - Mixco | I8: PROMEDIO | J8: Promedio Anterior | K8: Incremento/decremento
A9: No | B9: No | C9: 1 | D9: 2 | E9: 3 | F9: 3 | G9: 5 | H9: 6
B10: PRODUCTO | C10: P R E C I O S
A11: 1 | B11: Crema industrial | C11: 36 | D11: 34 | E11: 35 | F11: 40 | G11: 35 | H11: 38 | I11: =AVERAGE(C11:H11) -> 36.333333 | J11: 36.75 | K11: =+I11-J11 -> -0.41666667
A12: 2 | B12: Crema artesanal | C12: 12 | D12: 13 | E12: 12 | F12: 14 | G12: 13 | H12: 10 | I12: =AVERAGE(C12:H12) -> 12.333333 | J12: 12.4 | K12: =+I12-J12 -> -0.066666667
A13: 3 | B13: Queso fresco | D13: 22 | E13: 20 | F13: 22 | G13: 20 | H13: 21 | I13: =AVERAGE(C13:H13) -> 21 | J13: 21.2 | K13: =+I13-J13 -> -0.2
A14: 4 | B14: Leche entera líquida | C14: 6.5 | D14: 6 | E14: 6.5 | H14: 6.5 | I14: =AVERAGE(C14:H14) -> 6.375 | J14: 6 | K14: =+I14-J14 -> 0.375
A15: 5 | B15: Pollo blanco | C15: 17 | D15: 18 | E15: 18 | F15: 17 | G15: 17 | H15: 16 | I15: =AVERAGE(C15:H15) -> 17.166667 | J15: 16.75 | K15: =+I15-J15 -> 0.41666667
A16: 6 | B16: Pollo amarillo | D16: 17 | E16: 17 | F16: 16 | G16: 17 | I16: =AVERAGE(C16:H16) -> 16.75 | J16: 15.5 | K16: =+I16-J16 -> 1.25
A17: 7 | B17: Carne de res para asar | C17: 40 | D17: 40 | E17: 38 | F17: 40 | G17: 40 | H17: 36 | I17: =AVERAGE(C17:H17) -> 39 | J17: 39.2 | K17: =+I17-J17 -> -0.2
A18: 8 | B18: Carne de res sin hueso (posta) | C18: 38 | D18: 40 | E18: 38 | F18: 40 | H18: 38 | I18: =AVERAGE(C18:H18) -> 38.8 | J18: 38.5 | K18: =+I18-J18 -> 0.3
A19: 9 | B19: Carne para cocer con hueso | D19: 27 | F19: 26 | H19: 27 | I19: =AVERAGE(C19:H19) -> 26.666667 | J19: 26.5 | K19: =+I19-J19 -> 0.16666667
A20: 10 | B20: Carne de res molida | C20: 40 | D20: 40 | E20: 38 | F20: 40 | G20: 40 | H20: 36 | I20: =AVERAGE(C20:H20) -> 39 | J20: 39 | K20: =+I20-J20 -> 0
A21: 11 | B21: Posta de cerdo sin hueso | C21: 25 | D21: 27 | E21: 25 | F21: 26 | G21: 25 | H21: 28 | I21: =AVERAGE(C21:H21) -> 26 | J21: 26.4 | K21: =+I21-J21 -> -0.4
A22: 12 | B22: Salchichas | C22: 1 | D22: 0.75 | E22: 0.75 | F22: 1 | H22: 1 | I22: =AVERAGE(C22:H22) -> 0.9 | J22: 1 | K22: =+I22-J22 -> -0.1
A23: 13 | B23: Jamon | C23: 20 | D23: 22 | E23: 22 | F23: 22 | H23: 20 | I23: =AVERAGE(C23:H23) -> 21.2 | J23: 19.6 | K23: =+I23-J23 -> 1.6
A24: 14 | B24: Longaniza y Chorizo | C24: 2.5 | D24: 2 | E24: 1.5 | F24: 3 | G24: 1.25 | I24: =AVERAGE(C24:H24) -> 2.05 | J24: 2.4375 | K24: =+I24-J24 -> -0.3875
A25: 15 | B25: Huevos | C25: 15 | D25: 18 | E25: 19 | F25: 18 | G25: 16 | H25: 15 | I25: =AVERAGE(C25:H25) -> 16.833333 | J25: 16.8 | K25: =+I25-J25 -> 0.033333333
A26: 16 | B26: Frijol negro seco | C26: 7 | D26: 8 | E26: 8 | F26: 8 | G26: 8.5 | H26: 8 | I26: =AVERAGE(C26:H26) -> 7.9166667 | J26: 7.5 | K26: =+I26-J26 -> 0.41666667
A27: 17 | B27: Arroz a granel | C27: 6 | D27: 7 | E27: 6 | F27: 7 | G27: 6 | H27: 6 | I27: =AVERAGE(C27:H27) -> 6.3333333 | J27: 5.8 | K27: =+I27-J27 -> 0.53333333
A28: 18 | B28: Arroz precocido | C28: 7 | D28: 7 | E28: 8 | F28: 8 | G28: 6 | H28: 6 | I28: =AVERAGE(C28:H28) -> 7 | J28: 7.4 | K28: =+I28-J28 -> -0.4
A29: 19 | B29: Pan francés | C29: 0.4 | D29: 0.33 | E29: 0.33 | G29: 0.5 | H29: 0.5 | I29: =AVERAGE(C29:H29) -> 0.412 | J29: 0.425 | K29: =+I29-J29 -> -0.013
A30: 20 | B30: Pan dulce | C30: 0.4 | D30: 0.33 | E30: 0.33 | G30: 0.5 | H30: 0.5 | I30: =AVERAGE(C30:H30) -> 0.412 | J30: 0.425 | K30: =+I30-J30 -> -0.013
A31: 21 | B31: Galletas Dulces | C31: 2 | D31: 1.25 | E31: 1 | G31: 2 | H31: 1 | I31: =AVERAGE(C31:H31) -> 1.45 | J31: 1.625 | K31: =+I31-J31 -> -0.175
A32: 22 | B32: Tortillas de maíz | C32: 0.5 | D32: 0.33 | E32: 0.25 | F32: 0.33 | G32: 0.25 | H32: 0.34 | I32: =AVERAGE(C32:H32) -> 0.33333333 | J32: 0.34 | K32: =+I32-J32 -> -0.0066666667
A33: 23 | B33: Cereales hojuelas simples | C33: 27 | D33: 26 | E33: 27 | G33: 24 | H33: 27 | I33: =AVERAGE(C33:H33) -> 26.2 | J33: 25.75 | K33: =+I33-J33 -> 0.45
A34: 24 | B34: Pastas espagueti | C34: 3.5 | D34: 4 | E34: 4.5 | F34: 4.5 | G34: 4 | H34: 4 | I34: =AVERAGE(C34:H34) -> 4.0833333 | J34: 4 | K34: =+I34-J34 -> 0.083333333
A35: 25 | B35: Fideos en todas sus formas | C35: 4 | D35: 4 | E35: 4.5 | F35: 4 | G35: 4 | H35: 4 | I35: =AVERAGE(C35:H35) -> 4.0833333 | J35: 3.875 | K35: =+I35-J35 -> 0.20833333
A36: 26 | B36: Azúcar blanca | C36: 5.5 | D36: 6 | E36: 5.5 | F36: 5.5 | G36: 5 | H36: 5 | I36: =AVERAGE(C36:H36) -> 5.4166667 | J36: 5.1 | K36: =+I36-J36 -> 0.31666667
A37: 27 | B37: Azúcar morena | C37: 4.5 | D37: 4 | E37: 4.5 | F37: 4.5 | G37: 5 | H37: 4.5 | I37: =AVERAGE(C37:H37) -> 4.5 | J37: 4.6 | K37: =+I37-J37 -> -0.1
A38: 28 | B38: Aceite vegetal mixto | C38: 19 | D38: 20 | F38: 20 | G38: 20 | H38: 19 | I38: =AVERAGE(C38:H38) -> 19.6 | J38: 20 | K38: =+I38-J38 -> -0.4
A39: 29 | B39: Margarina vegetal regular | C39: 12 | D39: 12 | E39: 13 | F39: 12 | G39: 12.5 | H39: 12 | I39: =AVERAGE(C39:H39) -> 12.25 | J39: 11.9 | K39: =+I39-J39 -> 0.35
A40: 30 | B40: Güisquil | C40: 4 | D40: 6 | E40: 5 | F40: 6 | G40: 5 | H40: 4 | I40: =AVERAGE(C40:H40) -> 5 | J40: 5 | K40: =+I40-J40 -> 0
A41: 31 | B41: Tomate | C41: 5 | D41: 6 | E41: 6 | F41: 5 | G41: 6 | H41: 6 | I41: =AVERAGE(C41:H41) -> 5.6666667 | J41: 4.9 | K41: =+I41-J41 -> 0.76666667
A42: 32 | B42: Cebolla | C42: 8 | D42: 6 | E42: 6 | F42: 10 | G42: 8 | H42: 8 | I42: =AVERAGE(C42:H42) -> 7.6666667 | J42: 7.8 | K42: =+I42-J42 -> -0.13333333
A43: 33 | B43: Papas | C43: 6 | D43: 8 | E43: 8 | F43: 10 | G43: 6 | H43: 7 | I43: =AVERAGE(C43:H43) -> 7.5 | J43: 6.8 | K43: =+I43-J43 -> 0.7
A44: 34 | B44: Hierbas (macuy) | D44: 8 | E44: 6 | F44: 8 | H44: 5 | I44: =AVERAGE(C44:H44) -> 6.75 | J44: 6.25 | K44: =+I44-J44 -> 0.5
A45: 35 | B45: Chile pimiento | C45: 3.5 | D45: 3.5 | E45: 3 | F45: 4 | G45: 3.5 | H45: 2 | I45: =AVERAGE(C45:H45) -> 3.25 | J45: 3.1 | K45: =+I45-J45 -> 0.15
A46: 36 | B46: Lechuga | C46: 6 | D46: 6 | E46: 7 | F46: 8 | G46: 5 | H46: 5 | I46: =AVERAGE(C46:H46) -> 6.1666667 | J46: 6.6 | K46: =+I46-J46 -> -0.43333333
...

Sheet CBA Rural
A6: MONITOREO DE PRECIOS PROMEDIO CBA RURAL - DEPARTAMENTO DE GUATEMALA | I6: ='CBA Urbana'!I6 -> 46251
A8: CBA | B8: MERCADO | C8: ='CBA Urbana'!C8 -> Unidos por Amor, zona 21 | D8: ='CBA Urbana'!D8 -> Justo Rufino Barrios, zona 21 | E8: ='CBA Urbana'!E8 -> Municipal Colonia Santa Fé, zona 13 | F8: ='CBA Urbana'!F8 -> La Villa,. Zona 10 | G8: ='CBA Urbana'!G8 -> Concepcion - Villa Nueva | H8: ='CBA Urbana'!H8 -> Divina Providencia - Mixco | I8: PROMEDIO | J8: Promedio Anterior | K8: Incremento/decremento
A9: No | B9: No | C9: 1 | D9: 2 | E9: 3 | F9: 4 | G9: 5 | H9: 6
B10: PRODUCTO | C10: P R E C I O S
A11: 1 | B11: Crema artesanal | C11: 12 | D11: 13 | E11: 12 | F11: 14 | G11: 13 | H11: 10 | I11: =AVERAGE(C11:H11) -> 12.333333 | J11: 12.4 | K11: =+I11-J11 -> -0.066666667
A12: 2 | B12: Queso fresco | D12: 22 | E12: 20 | F12: 22 | G12: 20 | H12: 21 | I12: =AVERAGE(C12:H12) -> 21 | J12: 21.2 | K12: =+I12-J12 -> -0.2
A13: 3 | B13: Leche en polvo | D13: 33 | I13: =AVERAGE(C13:H13) -> 33 | J13: 33 | K13: =+I13-J13 -> 0
A14: 4 | B14: Pollo blanco | C14: 17 | D14: 18 | E14: 18 | F14: 17 | G14: 17 | H14: 16 | I14: =AVERAGE(C14:H14) -> 17.166667 | J14: 16.75 | K14: =+I14-J14 -> 0.41666667
A15: 5 | B15: Pollo amarillo | D15: 17 | E15: 17 | F15: 16 | G15: 17 | I15: =AVERAGE(C15:H15) -> 16.75 | J15: 15.5 | K15: =+I15-J15 -> 1.25
A16: 6 | B16: Carne de res sin hueso (posta) | C16: 38 | D16: 40 | E16: 38 | F16: 40 | H16: 38 | I16: =AVERAGE(C16:H16) -> 38.8 | J16: 38.5 | K16: =+I16-J16 -> 0.3
A17: 7 | B17: Carne para cocer con hueso | D17: 27 | F17: 26 | H17: 27 | I17: =AVERAGE(C17:H17) -> 26.666667 | J17: 26.5 | K17: =+I17-J17 -> 0.16666667
A18: 8 | B18: Salchichas | C18: 1 | D18: 0.75 | E18: 0.75 | F18: 1 | H18: 1 | I18: =AVERAGE(C18:H18) -> 0.9 | J18: 1 | K18: =+I18-J18 -> -0.1
A19: 9 | B19: Longaniza y Chorizo | C19: 2.5 | D19: 2 | E19: 1.5 | F19: 3 | G19: 1.25 | I19: =AVERAGE(C19:H19) -> 2.05 | J19: 2.4375 | K19: =+I19-J19 -> -0.3875
A20: 10 | B20: Pescado entero | C20: 25 | E20: 25 | F20: 28 | G20: 25 | H20: 30 | I20: =AVERAGE(C20:H20) -> 26.6 | J20: 26.75 | K20: =+I20-J20 -> -0.15
A21: 11 | B21: Huevos | C21: 15 | D21: 18 | E21: 19 | F21: 18 | G21: 16 | H21: 15 | I21: =AVERAGE(C21:H21) -> 16.833333 | J21: 16.8 | K21: =+I21-J21 -> 0.033333333
A22: 12 | B22: Frijol negro seco | C22: 7 | D22: 8 | E22: 8 | F22: 8 | G22: 8.5 | H22: 8 | I22: =AVERAGE(C22:H22) -> 7.9166667 | J22: 7.5 | K22: =+I22-J22 -> 0.41666667
A23: 13 | B23: Arroz a granel | C23: 6 | D23: 7 | E23: 6 | F23: 7 | G23: 6 | H23: 6 | I23: =AVERAGE(C23:H23) -> 6.3333333 | J23: 5.8 | K23: =+I23-J23 -> 0.53333333
A24: 14 | B24: Arroz precocido | C24: 7 | D24: 7 | E24: 8 | F24: 8 | G24: 6 | H24: 6 | I24: =AVERAGE(C24:H24) -> 7 | J24: 7.4 | K24: =+I24-J24 -> -0.4
A25: 15 | B25: Maíz blanco | C25: 2.5 | E25: 2.5 | G25: 2.25 | H25: 2.5 | I25: =AVERAGE(C25:H25) -> 2.4375 | J25: 2.5625 | K25: =+I25-J25 -> -0.125
A26: 16 | B26: Harina de maíz | C26: 12 | D26: 12 | E26: 12 | F26: 13 | G26: 12 | H26: 12.5 | I26: =AVERAGE(C26:H26) -> 12.25 | J26: 12 | K26: =+I26-J26 -> 0.25
A27: 17 | B27: Harina para atoles | C27: 8 | D27: 7 | E27: 6 | F27: 10 | G27: 11 | H27: 10 | I27: =AVERAGE(C27:H27) -> 8.6666667 | J27: 8.3333333 | K27: =+I27-J27 -> 0.33333333
A28: 18 | B28: Pan francés | C28: 0.4 | D28: 0.33 | E28: 0.33 | G28: 0.5 | H28: 0.5 | I28: =AVERAGE(C28:H28) -> 0.412 | J28: 0.425 | K28: =+I28-J28 -> -0.013
A29: 19 | B29: Pan dulce | C29: 0.4 | D29: 0.33 | E29: 0.33 | G29: 0.5 | H29: 0.5 | I29: =AVERAGE(C29:H29) -> 0.412 | J29: 0.425 | K29: =+I29-J29 -> -0.013
A30: 20 | B30: Galletas Dulces | C30: 2 | D30: 1.25 | E30: 1 | G30: 2 | H30: 1 | I30: =AVERAGE(C30:H30) -> 1.45 | J30: 1.625 | K30: =+I30-J30 -> -0.175
A31: 21 | B31: Tortillas de maíz | C31: 0.5 | D31: 0.33 | E31: 0.25 | F31: 0.33 | G31: 0.25 | H31: 0.34 | I31: =AVERAGE(C31:H31) -> 0.33333333 | J31: 0.34 | K31: =+I31-J31 -> -0.0066666667
A32: 22 | B32: Avena (mosh) | C32: 12 | D32: 12 | E32: 12 | F32: 13 | G32: 12 | H32: 11.5 | I32: =AVERAGE(C32:H32) -> 12.083333 | J32: 11.75 | K32: =+I32-J32 -> 0.33333333
A33: 23 | B33: Pastas espagueti | C33: 3.5 | D33: 4 | E33: 4.5 | F33: 4.5 | G33: 4 | H33: 4 | I33: =AVERAGE(C33:H33) -> 4.0833333 | J33: 4 | K33: =+I33-J33 -> 0.083333333
A34: 24 | B34: Fideos en todas sus formas | C34: 4 | D34: 4 | E34: 4.5 | F34: 4 | G34: 4 | H34: 4 | I34: =AVERAGE(C34:H34) -> 4.0833333 | J34: 3.875 | K34: =+I34-J34 -> 0.20833333
A35: 25 | B35: Azúcar blanca | C35: 5.5 | D35: 6 | E35: 5.5 | F35: 5.5 | G35: 5 | H35: 5 | I35: =AVERAGE(C35:H35) -> 5.4166667 | J35: 5.1 | K35: =+I35-J35 -> 0.31666667
A36: 26 | B36: Aceite vegetal mixto | C36: 19 | D36: 20 | F36: 20 | G36: 20 | H36: 19 | I36: =AVERAGE(C36:H36) -> 19.6 | J36: 20 | K36: =+I36-J36 -> -0.4
A37: 27 | B37: Margarina vegetal regular | C37: 12 | D37: 12 | E37: 13 | F37: 12 | G37: 12.5 | H37: 12 | I37: =AVERAGE(C37:H37) -> 12.25 | J37: 11.9 | K37: =+I37-J37 -> 0.35
A38: 28 | B38: Gûisquil | C38: 4 | D38: 6 | E38: 5 | F38: 6 | G38: 5 | H38: 4 | I38: =AVERAGE(C38:H38) -> 5 | J38: 5 | K38: =+I38-J38 -> 0
A39: 29 | B39: Tomate | C39: 5 | D39: 6 | E39: 6 | F39: 5 | G39: 6 | H39: 6 | I39: =AVERAGE(C39:H39) -> 5.6666667 | J39: 4.9 | K39: =+I39-J39 -> 0.76666667
A40: 30 | B40: Cebolla | C40: 8 | D40: 6 | E40: 6 | F40: 10 | G40: 8 | H40: 8 | I40: =AVERAGE(C40:H40) -> 7.6666667 | J40: 7.8 | K40: =+I40-J40 -> -0.13333333
A41: 31 | B41: Papa | C41: 6 | D41: 8 | E41: 8 | F41: 10 | G41: 6 | H41: 7 | I41: =AVERAGE(C41:H41) -> 7.5 | J41: 6.8 | K41: =+I41-J41 -> 0.7
A42: 32 | B42: Hierbas (macuy) | D42: 8 | E42: 6 | F42: 8 | H42: 5 | I42: =AVERAGE(C42:H42) -> 6.75 | J42: 6.25 | K42: =+I42-J42 -> 0.5
A43: 33 | B43: Chile pimiento | C43: 3.5 | D43: 3.5 | E43: 3 | F43: 4 | G43: 3.5 | H43: 2 | I43: =AVERAGE(C43:H43) -> 3.25 | J43: 3.1 | K43: =+I43-J43 -> 0.15
A44: 34 | B44: Perejil y Cilantro | C44: 10 | D44: 9 | F44: 10 | G44: 11 | H44: 10 | I44: =AVERAGE(C44:H44) -> 10 | J44: 9.6 | K44: =+I44-J44 -> 0.4
A45: 35 | B45: Repollo | C45: 15 | D45: 12 | E45: 16 | F45: 25 | G45: 15 | H45: 10 | I45: =AVERAGE(C45:H45) -> 15.5 | J45: 15.4 | K45: =+I45-J45 -> 0.1
A46: 36 | B46: Zanahoria | C46: 3 | D46: 3.5 | E46: 3.5 | F46: 3 | G46: 3.5 | H46: 1.5 | I46: =AVERAGE(C46:H46) -> 3 | J46: 2.95 | K46: =+I46-J46 -> 0.05
...
