Workbook

Sheet CBA Urbana
A6: MONITOREO DE PRECIOS PROMEDIO CBA URBANA - DEPARTAMENTO DE GUATEMALA | I6: 46251
A8: CBA | B8: MERCADO | C8: Unidos por Amor, zona 21 | D8: Justo Rufino Barrios, zona 21 | E8: Municipal Colonia Santa Fé, zona 13 | F8: La Villa,. Zona 10 | G8: Concepcion - Villa Nueva | H8: Divina Providencia - Mixco | I8: PROMEDIO | J8: Promedio Anterior | K8: Incremento/decremento
A9: No | B9: No | C9: 1 | D9: 2 | E9: 3 | F9: 3 | G9: 5 | H9: 6
B10: PRODUCTO | C10: P R E C I O S
A11: 1 | B11: Crema industrial | C11: 36 | D11: 34 | E11: 35 | F11: 40 | G11: 35 | H11: 38 | I11: =AVERAGE(C11:H11) -> 36.333333 | J11: 36.75 | K11: =+I11-J11 -> -0.41666667
A12: 2 | B12: Crema artesanal | C12: 12 | D12: 13 | E12: 12 | F12: 14 | G12: 13 | H12: 10 | I12: =AVERAGE(C12:H12) -> 12.333333 | J12: 12.4 | K12: =+I12-J12 -> -0.066666667
A13: 3 | B13: Queso fresco | D13: 22 | E13: 20 | F13: 22 | G13: 20 | H13: 21 | I13: =AVERAGE(C13:H13) -> 21 | J13: 21.2 | K13: =+I13-J13 -> -0.2
A14: 4 | B14: Leche entera líquida | C14: 6.5 | D14: 6 | E14: 6.5 | H14: 6.5 | I14: =AVERAGE(C14:H14) -> 6.375 | J14: 6 | K14: =+I14-J14 -> 0.375
A15: 5 | B15: Pollo blanco | C15: 17 | D15: 18 | E15: 18 | F15: 17 | G15: 17 | H15: 16 | I15: =AVERAGE(C15:H15) -> 17.166667 | J15: 16.75 | K15: =+I15-J15 -> 0.41666667
A16: 6 | B16: Pollo amarillo | D16: 17 | E16: 17 | F16: 16 | G16: 17 | I16: =AVERAGE(C16:H16) -> 16.75 | J16: 15.5 | K16: =+I16-J16 -> 1.25
A17: 7 | B17: Carne de res para asar | C17: 40 | D17: 40 | E17: 38 | F17: 40 | G17: 40 | H17: 36 | I17: =AVERAGE(C17:H17) -> 39 | J17: 39.2 | K17: =+I17-J17 -> -0.2
A18: 8 | B18: Carne de res sin hueso (posta) | C18: 38 | D18: 40 | E18: 38 | F18: 40 | H18: 38 | I18: =AVERAGE(C18:H18) -> 38.8 | J18: 38.5 | K18: =+I18-J18 -> 0.3
A19: 9 | B19: Carne para cocer con hueso | D19: 27 | F19: 26 | H19: 27 | I19: =AVERAGE(C19:H19) -> 26.666667 | J19: 26.5 | K19: =+I19-J19 -> 0.16666667
A20: 10 | B20: Carne de res molida | C20: 40 | D20: 40 | E20: 38 | F20: 40 | G20: 40 | H20: 36 | I20: =AVERAGE(C20:H20) -> 39 | J20: 39 | K20: =+I20-J20 -> 0
A21: 11 | B21: Posta de cerdo sin hueso | C21: 25 | D21: 27 | E21: 25 | F21: 26 | G21: 25 | H21: 28 | I21: =AVERAGE(C21:H21) -> 26 | J21: 26.4 | K21: =+I21-J21 -> -0.4
A22: 12 | B22: Salchichas | C22: 1 | D22: 0.75 | E22: 0.75 | F22: 1 | H22: 1 | I22: =AVERAGE(C22:H22) -> 0.9 | J22: 1 | K22: =+I22-J22 -> -0.1
A23: 13 | B23: Jamon | C23: 20 | D23: 22 | E23: 22 | F23: 22 | H23: 20 | I23: =AVERAGE(C23:H23) -> 21.2 | J23: 19.6 | K23: =+I23-J23 -> 1.6
A24: 14 | B24: Longaniza y Chorizo | C24: 2.5 | D24: 2 | E24: 1.5 | F24: 3 | G24: 1.25 | I24: =AVERAGE(C24:H24) -> 2.05 | J24: 2.4375 | K24: =+I24-J24 -> -0.3875
A25: 15 | B25: Huevos | C25: 15 | D25: 18 | E25: 19 | F25: 18 | G25: 16 | H25: 15 | I25: =AVERAGE(C25:H25) -> 16.833333 | J25: 16.8 | K25: =+I25-J25 -> 0.033333333
A26: 16 | B26: Frijol negro seco | C26: 7 | D26: 8 | E26: 8 | F26: 8 | G26: 8.5 | H26: 8 | I26: =AVERAGE(C26:H26) -> 7.9166667 | J26: 7.5 | K26: =+I26-J26 -> 0.41666667
A27: 17 | B27: Arroz a granel | C27: 6 | D27: 7 | E27: 6 | F27: 7 | G27: 6 | H27: 6 | I27: =AVERAGE(C27:H27) -> 6.3333333 | J27: 5.8 | K27: =+I27-J27 -> 0.53333333
A28: 18 | B28: Arroz precocido | C28: 7 | D28: 7 | E28: 8 | F28: 8 | G28: 6 | H28: 6 | I28: =AVERAGE(C28:H28) -> 7 | J28: 7.4 | K28: =+I28-J28 -> -0.4
A29: 19 | B29: Pan francés | C29: 0.4 | D29: 0.33 | E29: 0.33 | G29: 0.5 | H29: 0.5 | I29: =AVERAGE(C29:H29) -> 0.412 | J29: 0.425 | K29: =+I29-J29 -> -0.013
A30: 20 | B30: Pan dulce | C30: 0.4 | D30: 0.33 | E30: 0.33 | G30: 0.5 | H30: 0.5 | I30: =AVERAGE(C30:H30) -> 0.412 | J30: 0.425 | K30: =+I30-J30 -> -0.013
A31: 21 | B31: Galletas Dulces | C31: 2 | D31: 1.25 | E31: 1 | G31: 2 | H31: 1 | I31: =AVERAGE(C31:H31) -> 1.45 | J31: 1.625 | K31: =+I31-J31 -> -0.175
A32: 22 | B32: Tortillas de maíz | C32: 0.5 | D32: 0.33 | E32: 0.25 | F32: 0.33 | G32: 0.25 | H32: 0.34 | I32: =AVERAGE(C32:H32) -> 0.33333333 | J32: 0.34 | K32: =+I32-J32 -> -0.0066666667
A33: 23 | B33: Cereales hojuelas simples | C33: 27 | D33: 26 | E33: 27 | G33: 24 | H33: 27 | I33: =AVERAGE(C33:H33) -> 26.2 | J33: 25.75 | K33: =+I33-J33 -> 0.45
A34: 24 | B34: Pastas espagueti | C34: 3.5 | D34: 4 | E34: 4.5 | F34: 4.5 | G34: 4 | H34: 4 | I34: =AVERAGE(C34:H34) -> 4.0833333 | J34: 4 | K34: =+I34-J34 -> 0.083333333
A35: 25 | B35: Fideos en todas sus formas | C35: 4 | D35: 4 | E35: 4.5 | F35: 4 | G35: 4 | H35: 4 | I35: =AVERAGE(C35:H35) -> 4.0833333 | J35: 3.875 | K35: =+I35-J35 -> 0.20833333
A36: 26 | B36: Azúcar blanca | C36: 5.5 | D36: 6 | E36: 5.5 | F36: 5.5 | G36: 5 | H36: 5 | I36: =AVERAGE(C36:H36) -> 5.4166667 | J36: 5.1 | K36: =+I36-J36 -> 0.31666667
A37: 27 | B37: Azúcar morena | C37: 4.5 | D37: 4 | E37: 4.5 | F37: 4.5 | G37: 5 | H37: 4.5 | I37: =AVERAGE(C37:H37) -> 4.5 | J37: 4.6 | K37: =+I37-J37 -> -0.1
A38: 28 | B38: Aceite vegetal mixto | C38: 19 | D38: 20 | F38: 20 | G38: 20 | H38: 19 | I38: =AVERAGE(C38:H38) -> 19.6 | J38: 20 | K38: =+I38-J38 -> -0.4
A39: 29 | B39: Margarina vegetal regular | C39: 12 | D39: 12 | E39: 13 | F39: 12 | G39: 12.5 | H39: 12 | I39: =AVERAGE(C39:H39) -> 12.25 | J39: 11.9 | K39: =+I39-J39 -> 0.35
A40: 30 | B40: Güisquil | C40: 4 | D40: 6 | E40: 5 | F40: 6 | G40: 5 | H40: 4 | I40: =AVERAGE(C40:H40) -> 5 | J40: 5 | K40: =+I40-J40 -> 0
A41: 31 | B41: Tomate | C41: 5 | D41: 6 | E41: 6 | F41: 5 | G41: 6 | H41: 6 | I41: =AVERAGE(C41:H41) -> 5.6666667 | J41: 4.9 | K41: =+I41-J41 -> 0.76666667
A42: 32 | B42: Cebolla | C42: 8 | D42: 6 | E42: 6 | F42: 10 | G42: 8 | H42: 8 | I42: =AVERAGE(C42:H42) -> 7.6666667 | J42: 7.8 | K42: =+I42-J42 -> -0.13333333
A43: 33 | B43: Papas | C43: 6 | D43: 8 | E43: 8 | F43: 10 | G43: 6 | H43: 7 | I43: =AVERAGE(C43:H43) -> 7.5 | J43: 6.8 | K43: =+I43-J43 -> 0.7
A44: 34 | B44: Hierbas (macuy) | D44: 8 | E44: 6 | F44: 8 | H44: 5 | I44: =AVERAGE(C44:H44) -> 6.75 | J44: 6.25 | K44: =+I44-J44 -> 0.5
A45: 35 | B45: Chile pimiento | C45: 3.5 | D45: 3.5 | E45: 3 | F45: 4 | G45: 3.5 | H45: 2 | I45: =AVERAGE(C45:H45) -> 3.25 | J45: 3.1 | K45: =+I45-J45 -> 0.15
A46: 36 | B46: Lechuga | C46: 6 | D46: 6 | E46: 7 | F46: 8 | G46: 5 | H46: 5 | I46: =AVERAGE(C46:H46) -> 6.1666667 | J46: 6.6 | K46: =+I46-J46 -> -0.43333333
A47: 37 | B47: Perejil y Cilantro | C47: 10 | D47: 9 | F47: 10 | G47: 11 | H47: 10 | I47: =AVERAGE(C47:H47) -> 10 | J47: 9.6 | K47: =+I47-J47 -> 0.4
A48: 38 | B48: Zanahoria | C48: 3 | D48: 3.5 | E48: 3.5 | F48: 3 | G48: 3.5 | H48: 1.5 | I48: =AVERAGE(C48:H48) -> 3 | J48: 2.95 | K48: =+I48-J48 -> 0.05
A49: 39 | B49: Pepinos | C49: 3 | D49: 4 | E49: 3.5 | F49: 3.5 | G49: 4 | H49: 2 | I49: =AVERAGE(C49:H49) -> 3.3333333 | J49: 3.4 | K49: =+I49-J49 -> -0.066666667
A50: 40 | B50: Verduras cortadas | C50: 7 | D50: 9 | E50: 6 | F50: 8 | H50: 5 | I50: =AVERAGE(C50:H50) -> 7 | J50: 7.25 | K50: =+I50-J50 -> -0.25
A51: 41 | B51: Apio | C51: 6 | D51: 4.5 | E51: 6 | F51: 6 | G51: 5 | I51: =AVERAGE(C51:H51) -> 5.5 | J51: 4.45 | K51: =+I51-J51 -> 1.05
A52: 42 | B52: Banano | C52: 15 | D52: 15 | E52: 12 | F52: 15 | G52: 12 | H52: 12 | I52: =AVERAGE(C52:H52) -> 13.5 | J52: 13.2 | K52: =+I52-J52 -> 0.3
A53: 43 | B53: Plátano | C53: 3 | D53: 4 | E53: 3.5 | F53: 4 | G53: 3.5 | H53: 3 | I53: =AVERAGE(C53:H53) -> 3.5 | J53: 2.8 | K53: =+I53-J53 -> 0.7
A54: 44 | B54: Aguacate | C54: 5 | D54: 5 | E54: 5 | F54: 7 | G54: 5 | H54: 4 | I54: =AVERAGE(C54:H54) -> 5.1666667 | J54: 5.5 | K54: =+I54-J54 -> -0.33333333
A55: 45 | B55: Limón | C55: 5 | D55: 5 | E55: 6 | F55: 7 | G55: 5 | I55: =AVERAGE(C55:H55) -> 5.6 | J55: 5.8 | K55: =+I55-J55 -> -0.2
A56: 46 | B56: Papaya | C56: 15 | D56: 15 | E56: 12 | F56: 15 | G56: 15 | H56: 12 | I56: =AVERAGE(C56:H56) -> 14 | J56: 14.2 | K56: =+I56-J56 -> -0.2
A57: 47 | B57: Manzana Gala | C57: 3 | D57: 3.5 | E57: 3 | F57: 3.5 | G57: 2.5 | H57: 5 | I57: =AVERAGE(C57:H57) -> 3.4166667 | J57: 3.6 | K57: =+I57-J57 -> -0.18333333
A58: 48 | B58: Café tostado y molido | C58: 42 | D58: 42 | E58: 45 | I58: =AVERAGE(C58:H58) -> 43 | J58: 43 | K58: =+I58-J58 -> 0
A59: 49 | B59: Café Instantáneo | C59: 16 | D59: 18 | E59: 18 | F59: 19 | G59: 20 | H59: 20 | I59: =AVERAGE(C59:H59) -> 18.5 | J59: 19 | K59: =+I59-J59 -> -0.5
A60: 50 | B60: Frijoles preparados procesados | C60: 10 | D60: 12 | E60: 13 | F60: 12 | G60: 12 | H60: 10 | I60: =AVERAGE(C60:H60) -> 11.5 | J60: 12 | K60: =+I60-J60 -> -0.5
A61: 51 | B61: Salsa tomate (ranchera/queso) | C61: 4.5 | D61: 5 | E61: 4 | F61: 5 | G61: 4 | H61: 4 | I61: =AVERAGE(C61:H61) -> 4.4166667 | J61: 4.3 | K61: =+I61-J61 -> 0.11666667
A62: 52 | B62: Mayonesa | C62: 12 | D62: 12 | E62: 12 | F62: 12 | H62: 12 | I62: =AVERAGE(C62:H62) -> 12 | J62: 12.25 | K62: =+I62-J62 -> -0.25
A63: 53 | B63: Snacks | D63: 2 | H63: 2 | I63: =AVERAGE(C63:H63) -> 2 | J63: 2 | K63: =+I63-J63 -> 0
A64: 54 | B64: Jugo de frutas líquido | C64: 5 | D64: 4.5 | E64: 5 | F64: 5 | G64: 4 | H64: 5 | I64: =AVERAGE(C64:H64) -> 4.75 | J64: 4.875 | K64: =+I64-J64 -> -0.125
A65: 55 | B65: Jugo de frutas en polvo | C65: 2.5 | D65: 3 | E65: 3.75 | F65: 2.75 | G65: 1.5 | H65: 3.5 | I65: =AVERAGE(C65:H65) -> 2.8333333 | J65: 2.6 | K65: =+I65-J65 -> 0.23333333
A66: 56 | B66: Sopas instantaneas | C66: 5 | D66: 5.5 | E66: 5.5 | F66: 5 | G66: 5 | H66: 5 | I66: =AVERAGE(C66:H66) -> 5.1666667 | J66: 5.2 | K66: =+I66-J66 -> -0.033333333
A67: 57 | B67: Sal | C67: 1 | D67: 1.5 | E67: 1.5 | F67: 1.5 | G67: 1.25 | H67: 1.25 | I67: =AVERAGE(C67:H67) -> 1.3333333 | J67: 1.35 | K67: =+I67-J67 -> -0.016666667
A68: 58 | B68: Bases para sopas | C68: 2.75 | D68: 3.5 | E68: 3.5 | F68: 3 | G68: 5 | H68: 4 | I68: =AVERAGE(C68:H68) -> 3.625 | J68: 3.4166667 | K68: =+I68-J68 -> 0.20833333
A69: 59 | B69: Consomé | C69: 1.25 | D69: 1.25 | E69: 1 | F69: 1.5 | G69: 1 | H69: 1 | I69: =AVERAGE(C69:H69) -> 1.1666667 | J69: 1.1 | K69: =+I69-J69 -> 0.066666667
A70: 60 | B70: Agua purificada desechable | C70: 3.5 | D70: 3.5 | G70: 4 | H70: 3.5 | I70: =AVERAGE(C70:H70) -> 3.625 | J70: 2.75 | K70: =+I70-J70 -> 0.875
A71: 61 | B71: Agua gaseosa desechable | C71: 7 | D71: 8 | F71: 6 | G71: 7 | H71: 4 | I71: =AVERAGE(C71:H71) -> 6.4 | J71: 6 | K71: =+I71-J71 -> 0.4
A72: 62 | B72: Desayuno continental | C72: 20 | D72: 18 | E72: 20 | F72: 15 | G72: 20 | H72: 20 | I72: =AVERAGE(C72:H72) -> 18.833333 | J72: 19.2 | K72: =+I72-J72 -> -0.36666667
A73: 63 | B73: Almuerzo simple | C73: 28 | D73: 30 | E73: 28 | F73: 30 | G73: 25 | H73: 25 | I73: =AVERAGE(C73:H73) -> 27.666667 | J73: 27 | K73: =+I73-J73 -> 0.66666667
A74: 64 | B74: Pieza de Pollo (extra) | C74: 10 | D74: 12 | E74: 12 | F74: 12 | G74: 10 | H74: 11 | I74: =AVERAGE(C74:H74) -> 11.166667 | J74: 11 | K74: =+I74-J74 -> 0.16666667
A75: 65 | B75: Tamales y Paches | C75: 8 | D75: 8 | E75: 10 | F75: 8 | G75: 8 | H75: 7 | I75: =AVERAGE(C75:H75) -> 8.1666667 | J75: 8.2 | K75: =+I75-J75 -> -0.033333333
A76: 66 | B76: Atoles | C76: 6 | D76: 7 | E76: 8 | F76: 8 | G76: 7 | H76: 5 | I76: =AVERAGE(C76:H76) -> 6.8333333 | J76: 6 | K76: =+I76-J76 -> 0.83333333
B77: Fuente: Dirección de Atencion y Asistencia al Consumidor -DIACO-

Sheet CBA Rural
A6: MONITOREO DE PRECIOS PROMEDIO CBA RURAL - DEPARTAMENTO DE GUATEMALA | I6: ='CBA Urbana'!I6 -> 46251
A8: CBA | B8: MERCADO | C8: ='CBA Urbana'!C8 -> Unidos por Amor, zona 21 | D8: ='CBA Urbana'!D8 -> Justo Rufino Barrios, zona 21 | E8: ='CBA Urbana'!E8 -> Municipal Colonia Santa Fé, zona 13 | F8: ='CBA Urbana'!F8 -> La Villa,. Zona 10 | G8: ='CBA Urbana'!G8 -> Concepcion - Villa Nueva | H8: ='CBA Urbana'!H8 -> Divina Providencia - Mixco | I8: PROMEDIO | J8: Promedio Anterior | K8: Incremento/decremento
A9: No | B9: No | C9: 1 | D9: 2 | E9: 3 | F9: 4 | G9: 5 | H9: 6
B10: PRODUCTO | C10: P R E C I O S
A11: 1 | B11: Crema artesanal | C11: 12 | D11: 13 | E11: 12 | F11: 14 | G11: 13 | H11: 10 | I11: =AVERAGE(C11:H11) -> 12.333333 | J11: 12.4 | K11: =+I11-J11 -> -0.066666667
A12: 2 | B12: Queso fresco | D12: 22 | E12: 20 | F12: 22 | G12: 20 | H12: 21 | I12: =AVERAGE(C12:H12) -> 21 | J12: 21.2 | K12: =+I12-J12 -> -0.2
A13: 3 | B13: Leche en polvo | D13: 33 | I13: =AVERAGE(C13:H13) -> 33 | J13: 33 | K13: =+I13-J13 -> 0
A14: 4 | B14: Pollo blanco | C14: 17 | D14: 18 | E14: 18 | F14: 17 | G14: 17 | H14: 16 | I14: =AVERAGE(C14:H14) -> 17.166667 | J14: 16.75 | K14: =+I14-J14 -> 0.41666667
A15: 5 | B15: Pollo amarillo | D15: 17 | E15: 17 | F15: 16 | G15: 17 | I15: =AVERAGE(C15:H15) -> 16.75 | J15: 15.5 | K15: =+I15-J15 -> 1.25
A16: 6 | B16: Carne de res sin hueso (posta) | C16: 38 | D16: 40 | E16: 38 | F16: 40 | H16: 38 | I16: =AVERAGE(C16:H16) -> 38.8 | J16: 38.5 | K16: =+I16-J16 -> 0.3
A17: 7 | B17: Carne para cocer con hueso | D17: 27 | F17: 26 | H17: 27 | I17: =AVERAGE(C17:H17) -> 26.666667 | J17: 26.5 | K17: =+I17-J17 -> 0.16666667
A18: 8 | B18: Salchichas | C18: 1 | D18: 0.75 | E18: 0.75 | F18: 1 | H18: 1 | I18: =AVERAGE(C18:H18) -> 0.9 | J18: 1 | K18: =+I18-J18 -> -0.1
A19: 9 | B19: Longaniza y Chorizo | C19: 2.5 | D19: 2 | E19: 1.5 | F19: 3 | G19: 1.25 | I19: =AVERAGE(C19:H19) -> 2.05 | J19: 2.4375 | K19: =+I19-J19 -> -0.3875
A20: 10 | B20: Pescado entero | C20: 25 | E20: 25 | F20: 28 | G20: 25 | H20: 30 | I20: =AVERAGE(C20:H20) -> 26.6 | J20: 26.75 | K20: =+I20-J20 -> -0.15
A21: 11 | B21: Huevos | C21: 15 | D21: 18 | E21: 19 | F21: 18 | G21: 16 | H21: 15 | I21: =AVERAGE(C21:H21) -> 16.833333 | J21: 16.8 | K21: =+I21-J21 -> 0.033333333
A22: 12 | B22: Frijol negro seco | C22: 7 | D22: 8 | E22: 8 | F22: 8 | G22: 8.5 | H22: 8 | I22: =AVERAGE(C22:H22) -> 7.9166667 | J22: 7.5 | K22: =+I22-J22 -> 0.41666667
A23: 13 | B23: Arroz a granel | C23: 6 | D23: 7 | E23: 6 | F23: 7 | G23: 6 | H23: 6 | I23: =AVERAGE(C23:H23) -> 6.3333333 | J23: 5.8 | K23: =+I23-J23 -> 0.53333333
A24: 14 | B24: Arroz precocido | C24: 7 | D24: 7 | E24: 8 | F24: 8 | G24: 6 | H24: 6 | I24: =AVERAGE(C24:H24) -> 7 | J24: 7.4 | K24: =+I24-J24 -> -0.4
A25: 15 | B25: Maíz blanco | C25: 2.5 | E25: 2.5 | G25: 2.25 | H25: 2.5 | I25: =AVERAGE(C25:H25) -> 2.4375 | J25: 2.5625 | K25: =+I25-J25 -> -0.125
A26: 16 | B26: Harina de maíz | C26: 12 | D26: 12 | E26: 12 | F26: 13 | G26: 12 | H26: 12.5 | I26: =AVERAGE(C26:H26) -> 12.25 | J26: 12 | K26: =+I26-J26 -> 0.25
A27: 17 | B27: Harina para atoles | C27: 8 | D27: 7 | E27: 6 | F27: 10 | G27: 11 | H27: 10 | I27: =AVERAGE(C27:H27) -> 8.6666667 | J27: 8.3333333 | K27: =+I27-J27 -> 0.33333333
A28: 18 | B28: Pan francés | C28: 0.4 | D28: 0.33 | E28: 0.33 | G28: 0.5 | H28: 0.5 | I28: =AVERAGE(C28:H28) -> 0.412 | J28: 0.425 | K28: =+I28-J28 -> -0.013
A29: 19 | B29: Pan dulce | C29: 0.4 | D29: 0.33 | E29: 0.33 | G29: 0.5 | H29: 0.5 | I29: =AVERAGE(C29:H29) -> 0.412 | J29: 0.425 | K29: =+I29-J29 -> -0.013
A30: 20 | B30: Galletas Dulces | C30: 2 | D30: 1.25 | E30: 1 | G30: 2 | H30: 1 | I30: =AVERAGE(C30:H30) -> 1.45 | J30: 1.625 | K30: =+I30-J30 -> -0.175
A31: 21 | B31: Tortillas de maíz | C31: 0.5 | D31: 0.33 | E31: 0.25 | F31: 0.33 | G31: 0.25 | H31: 0.34 | I31: =AVERAGE(C31:H31) -> 0.33333333 | J31: 0.34 | K31: =+I31-J31 -> -0.0066666667
A32: 22 | B32: Avena (mosh) | C32: 12 | D32: 12 | E32: 12 | F32: 13 | G32: 12 | H32: 11.5 | I32: =AVERAGE(C32:H32) -> 12.083333 | J32: 11.75 | K32: =+I32-J32 -> 0.33333333
A33: 23 | B33: Pastas espagueti | C33: 3.5 | D33: 4 | E33: 4.5 | F33: 4.5 | G33: 4 | H33: 4 | I33: =AVERAGE(C33:H33) -> 4.0833333 | J33: 4 | K33: =+I33-J33 -> 0.083333333
A34: 24 | B34: Fideos en todas sus formas | C34: 4 | D34: 4 | E34: 4.5 | F34: 4 | G34: 4 | H34: 4 | I34: =AVERAGE(C34:H34) -> 4.0833333 | J34: 3.875 | K34: =+I34-J34 -> 0.20833333
A35: 25 | B35: Azúcar blanca | C35: 5.5 | D35: 6 | E35: 5.5 | F35: 5.5 | G35: 5 | H35: 5 | I35: =AVERAGE(C35:H35) -> 5.4166667 | J35: 5.1 | K35: =+I35-J35 -> 0.31666667
A36: 26 | B36: Aceite vegetal mixto | C36: 19 | D36: 20 | F36: 20 | G36: 20 | H36: 19 | I36: =AVERAGE(C36:H36) -> 19.6 | J36: 20 | K36: =+I36-J36 -> -0.4
A37: 27 | B37: Margarina vegetal regular | C37: 12 | D37: 12 | E37: 13 | F37: 12 | G37: 12.5 | H37: 12 | I37: =AVERAGE(C37:H37) -> 12.25 | J37: 11.9 | K37: =+I37-J37 -> 0.35
A38: 28 | B38: Gûisquil | C38: 4 | D38: 6 | E38: 5 | F38: 6 | G38: 5 | H38: 4 | I38: =AVERAGE(C38:H38) -> 5 | J38: 5 | K38: =+I38-J38 -> 0
A39: 29 | B39: Tomate | C39: 5 | D39: 6 | E39: 6 | F39: 5 | G39: 6 | H39: 6 | I39: =AVERAGE(C39:H39) -> 5.6666667 | J39: 4.9 | K39: =+I39-J39 -> 0.76666667
A40: 30 | B40: Cebolla | C40: 8 | D40: 6 | E40: 6 | F40: 10 | G40: 8 | H40: 8 | I40: =AVERAGE(C40:H40) -> 7.6666667 | J40: 7.8 | K40: =+I40-J40 -> -0.13333333
A41: 31 | B41: Papa | C41: 6 | D41: 8 | E41: 8 | F41: 10 | G41: 6 | H41: 7 | I41: =AVERAGE(C41:H41) -> 7.5 | J41: 6.8 | K41: =+I41-J41 -> 0.7
A42: 32 | B42: Hierbas (macuy) | D42: 8 | E42: 6 | F42: 8 | H42: 5 | I42: =AVERAGE(C42:H42) -> 6.75 | J42: 6.25 | K42: =+I42-J42 -> 0.5
A43: 33 | B43: Chile pimiento | C43: 3.5 | D43: 3.5 | E43: 3 | F43: 4 | G43: 3.5 | H43: 2 | I43: =AVERAGE(C43:H43) -> 3.25 | J43: 3.1 | K43: =+I43-J43 -> 0.15
A44: 34 | B44: Perejil y Cilantro | C44: 10 | D44: 9 | F44: 10 | G44: 11 | H44: 10 | I44: =AVERAGE(C44:H44) -> 10 | J44: 9.6 | K44: =+I44-J44 -> 0.4
A45: 35 | B45: Repollo | C45: 15 | D45: 12 | E45: 16 | F45: 25 | G45: 15 | H45: 10 | I45: =AVERAGE(C45:H45) -> 15.5 | J45: 15.4 | K45: =+I45-J45 -> 0.1
A46: 36 | B46: Zanahoria | C46: 3 | D46: 3.5 | E46: 3.5 | F46: 3 | G46: 3.5 | H46: 1.5 | I46: =AVERAGE(C46:H46) -> 3 | J46: 2.95 | K46: =+I46-J46 -> 0.05
A47: 37 | B47: Pepinos | C47: 3 | D47: 4 | E47: 3.5 | F47: 3.5 | G47: 4 | H47: 2 | I47: =AVERAGE(C47:H47) -> 3.3333333 | J47: 3.4 | K47: =+I47-J47 -> -0.066666667
A48: 38 | B48: Banano | C48: 15 | D48: 15 | E48: 12 | F48: 15 | G48: 12 | H48: 12 | I48: =AVERAGE(C48:H48) -> 13.5 | J48: 13.2 | K48: =+I48-J48 -> 0.3
A49: 39 | B49: Plátano | C49: 3 | D49: 4 | E49: 3.5 | F49: 4 | G49: 3.5 | H49: 3 | I49: =AVERAGE(C49:H49) -> 3.5 | J49: 2.8 | K49: =+I49-J49 -> 0.7
A50: 40 | B50: Aguacate | C50: 5 | D50: 5 | E50: 5 | F50: 7 | G50: 5 | H50: 4 | I50: =AVERAGE(C50:H50) -> 5.1666667 | J50: 5.5 | K50: =+I50-J50 -> -0.33333333
A51: 41 | B51: Limón | C51: 5 | D51: 5 | E51: 6 | F51: 7 | G51: 5 | I51: =AVERAGE(C51:H51) -> 5.6 | J51: 5.8 | K51: =+I51-J51 -> -0.2
A52: 42 | B52: Naranja | D52: 3.5 | E52: 3 | F52: 4 | G52: 3 | H52: 2 | I52: =AVERAGE(C52:H52) -> 3.1 | J52: 3 | K52: =+I52-J52 -> 0.1
A53: 43 | B53: Manzana Gala | C53: 3 | D53: 3.5 | E53: 3 | F53: 3.5 | G53: 2.5 | H53: 5 | I53: =AVERAGE(C53:H53) -> 3.4166667 | J53: 3.6 | K53: =+I53-J53 -> -0.18333333
A54: 44 | B54: Café tostado y molido | C54: 42 | D54: 42 | E54: 45 | I54: =AVERAGE(C54:H54) -> 43 | J54: 43 | K54: =+I54-J54 -> 0
A55: 45 | B55: Café Instantáneo | C55: 16 | D55: 18 | E55: 18 | F55: 19 | G55: 20 | H55: 20 | I55: =AVERAGE(C55:H55) -> 18.5 | J55: 19 | K55: =+I55-J55 -> -0.5
A56: 46 | B56: Frijoles preparados procesados | C56: 10 | D56: 12 | E56: 13 | F56: 12 | G56: 12 | H56: 10 | I56: =AVERAGE(C56:H56) -> 11.5 | J56: 12 | K56: =+I56-J56 -> -0.5
A57: 47 | B57: Salsa tomate (ranchera/queso) | C57: 4.5 | D57: 5 | E57: 4 | F57: 5 | G57: 4 | H57: 4 | I57: =AVERAGE(C57:H57) -> 4.4166667 | J57: 4.3 | K57: =+I57-J57 -> 0.11666667
A58: 48 | B58: Snacks | D58: 2 | H58: 2 | I58: =AVERAGE(C58:H58) -> 2 | J58: 2 | K58: =+I58-J58 -> 0
A59: 49 | B59: Dulces en general | D59: 13 | E59: 12 | H59: 14 | I59: =AVERAGE(C59:H59) -> 13 | J59: 13.333333 | K59: =+I59-J59 -> -0.33333333
A60: 50 | B60: Jugo de frutas líquido | C60: 5 | D60: 4.5 | E60: 5 | F60: 5 | G60: 4 | H60: 5 | I60: =AVERAGE(C60:H60) -> 4.75 | J60: 4.875 | K60: =+I60-J60 -> -0.125
A61: 51 | B61: Sopas instantaneas | C61: 5 | D61: 5.5 | E61: 5.5 | F61: 5 | G61: 5 | H61: 5 | I61: =AVERAGE(C61:H61) -> 5.1666667 | J61: 5.2 | K61: =+I61-J61 -> -0.033333333
A62: 52 | B62: Sal | C62: 1 | D62: 1.5 | E62: 1.5 | F62: 1.5 | G62: 1.25 | H62: 1.25 | I62: =AVERAGE(C62:H62) -> 1.3333333 | J62: 1.35 | K62: =+I62-J62 -> -0.016666667
A63: 53 | B63: Bases para sopas | C63: 2.75 | D63: 3.5 | E63: 3.5 | F63: 3 | G63: 5 | H63: 4 | I63: =AVERAGE(C63:H63) -> 3.625 | J63: 3.4166667 | K63: =+I63-J63 -> 0.20833333
A64: 54 | B64: Consomé | C64: 1.25 | D64: 1.25 | E64: 1 | F64: 1.5 | G64: 1 | H64: 1 | I64: =AVERAGE(C64:H64) -> 1.1666667 | J64: 1.1 | K64: =+I64-J64 -> 0.066666667
A65: 55 | B65: Agua purificada desechable | C65: 3.5 | D65: 3.5 | G65: 4 | H65: 3.5 | I65: =AVERAGE(C65:H65) -> 3.625 | J65: 2.75 | K65: =+I65-J65 -> 0.875
A66: 56 | B66: Agua gaseosa desechable | C66: 7 | D66: 8 | F66: 6 | G66: 7 | H66: 4 | I66: =AVERAGE(C66:H66) -> 6.4 | J66: 6 | K66: =+I66-J66 -> 0.4
A67: 57 | B67: Desayuno continental | C67: 20 | D67: 18 | E67: 20 | F67: 15 | G67: 20 | H67: 20 | I67: =AVERAGE(C67:H67) -> 18.833333 | J67: 19.2 | K67: =+I67-J67 -> -0.36666667
A68: 58 | B68: Almuerzo simple | C68: 28 | D68: 30 | E68: 28 | F68: 30 | G68: 25 | H68: 25 | I68: =AVERAGE(C68:H68) -> 27.666667 | J68: 27 | K68: =+I68-J68 -> 0.66666667
A69: 59 | B69: Pieza de Pollo (extra) | C69: 10 | D69: 12 | E69: 12 | F69: 12 | G69: 10 | H69: 11 | I69: =AVERAGE(C69:H69) -> 11.166667 | J69: 11 | K69: =+I69-J69 -> 0.16666667
A70: 60 | B70: Tamales y Paches | C70: 8 | D70: 8 | E70: 10 | F70: 8 | G70: 8 | H70: 7 | I70: =AVERAGE(C70:H70) -> 8.1666667 | J70: 8.2 | K70: =+I70-J70 -> -0.033333333
A71: Fuente: Dirección de Atencion y Asistencia al Consumidor -DIACO-
